BEGIN:VCALENDAR
VERSION:2.0
METHOD:PUBLISH
BEGIN:VEVENT
ORGANIZER:MAILTO:stu@starbase51.com
DTSTART:20210624T200000Z
DTEND:20210624T223000Z
LOCATION:Zoom
TRANSP:OPAQUE
SEQUENCE:0
UID:CD0000008B9511D182D800C04FB1625DC99A80073CAECD459C743C5C01BD29CD
DTSTAMP:20260422T000000Z
DESCRIPTION:All doable workers and all visual stuff. Including stuff Paul has designed to use on Zoom.\n
SUMMARY:SMC - Paul Gordon*
PRIORITY:5
CLASS:PUBLIC
BEGIN:VALARM
TRIGGER:PT10M
ACTION:DISPLAY
DESCRIPTION:Reminder
END:VALARM
END:VEVENT
END:VCALENDAR