BEGIN:VCALENDAR
VERSION:2.0
METHOD:PUBLISH
BEGIN:VEVENT
ORGANIZER:MAILTO:stu@starbase51.com
DTSTART:20210722T200000Z
DTEND:20210722T223000Z
LOCATION:Blenheims
TRANSP:OPAQUE
SEQUENCE:0
UID:CD0000008B9511D182D800C04FB1625DC99A80073CAECD459C743C5C01BD29CD
DTSTAMP:20260422T000000Z
DESCRIPTION:Designer of the Copeland Coin boxes <a target='_new" href='https://www.copelandcoins.com/products/copelandcoinbox'>https://www.copelandcoins.com/products/copelandcoinbox</a>\n
SUMMARY:SMC - Rooster Magic Lecture *
PRIORITY:5
CLASS:PUBLIC
BEGIN:VALARM
TRIGGER:PT10M
ACTION:DISPLAY
DESCRIPTION:Reminder
END:VALARM
END:VEVENT
END:VCALENDAR