BEGIN:VCALENDAR
VERSION:2.0
METHOD:PUBLISH
BEGIN:VEVENT
ORGANIZER:MAILTO:stu@starbase51.com
DTSTART:20211014T200000Z
DTEND:20211014T223000Z
LOCATION:Zoom
TRANSP:OPAQUE
SEQUENCE:0
UID:CD0000008B9511D182D800C04FB1625DC99A80073CAECD459C743C5C01BD29CD
DTSTAMP:20260421T000000Z
DESCRIPTION:This will not be recorded, so please watch live./nAlso no guest ticket will be sold./n<a href="http://www.holyshoot.com">http://www.holyshoot.com</a>\n
SUMMARY:SMC - Shoot Ogawa*
PRIORITY:5
CLASS:PUBLIC
BEGIN:VALARM
TRIGGER:PT10M
ACTION:DISPLAY
DESCRIPTION:Reminder
END:VALARM
END:VEVENT
END:VCALENDAR